View In:
ArcGIS JavaScript
ArcGIS Online Map Viewer
ArcGIS Earth
Service Description: maskPMCopyRaster_crf
Name: maskPMCopyRaster_crf
Description:
Single Fused Map Cache: false
Extent:
XMin: -125.00749969482422
YMin: 31.992501465406285
XMax: -111.98750305175781
YMax: 43.002498626708984
Spatial Reference: 4326
(4326)
Initial Extent:
XMin: -125.00749969482422
YMin: 31.992501465406285
XMax: -111.98750305175781
YMax: 43.002498626708984
Spatial Reference: 4326
(4326)
Full Extent:
XMin: -125.00749969482422
YMin: 31.992501465406285
XMax: -111.98750305175781
YMax: 43.002498626708984
Spatial Reference: 4326
(4326)
Time Info:
Start Time Field: StdTime
End Time Field: StdTime
Time Extent:
[2024/04/18 04:00:00 UTC, 2024/04/19 09:00:00 UTC]
Time Reference:
N/A
Pixel Size X: 0.014999996132564985
Pixel Size Y: 0.014999996132564985
Band Count: 1
Pixel Type: F32
RasterFunction Infos: {"rasterFunctionInfos": [{
"help": "",
"name": "None",
"description": ""
}]}
Mensuration Capabilities: Basic
Inspection Capabilities:
Has Histograms: true
Has Colormap: false
Has Multi Dimensions : true
Rendering Rule:
Min Scale: 0
Max Scale: 0
Copyright Text:
Service Data Type: esriImageServiceDataTypeScientific
Min Values: 0
Max Values: 228.09524536132813
Mean Values: 0.00082152774522624449
Standard Deviation Values: 0.16905559584946211
Object ID Field:
Fields:
None
Default Mosaic Method: Center
Allowed Mosaic Methods:
SortField:
SortValue: N/A
Mosaic Operator: First
Default Compression Quality: 75
Default Resampling Method: Bilinear
Max Record Count: null
Max Image Height: 4100
Max Image Width: 15000
Max Download Image Count: null
Max Mosaic Image Count: null
Allow Raster Function: true
Allow Copy: true
Allow Analysis: true
Allow Compute TiePoints: false
Supports Statistics: false
Supports Advanced Queries: false
Use StandardizedQueries: false
Raster Type Infos:
Name: Raster Dataset
Description: Supports all ArcGIS Raster Datasets
Help:
Has Raster Attribute Table: false
Edit Fields Info: N/A
Ownership Based AccessControl For Rasters: N/A
Child Resources:
Info
Histograms
Statistics
Key Properties
Legend
Raster Function Infos
Multidimensional Info
Slices
Supported Operations:
Export Image
Identify
Measure
Compute Histograms
Compute Statistics Histograms
Get Samples
Compute Class Statistics
Query Boundary
Compute Pixel Location
Compute Angles
Validate
Project